BEGIN:VCALENDAR
VERSION:2.0
PRODID:-//Banco de Alimentos de Valladolid - ECPv6.15.20//NONSGML v1.0//EN
CALSCALE:GREGORIAN
METHOD:PUBLISH
X-WR-CALNAME:Banco de Alimentos de Valladolid
X-ORIGINAL-URL:https://bancodealimentosdevalladolid.es
X-WR-CALDESC:Eventos para Banco de Alimentos de Valladolid
REFRESH-INTERVAL;VALUE=DURATION:PT1H
X-Robots-Tag:noindex
X-PUBLISHED-TTL:PT1H
BEGIN:VTIMEZONE
TZID:Europe/Helsinki
BEGIN:DAYLIGHT
TZOFFSETFROM:+0200
TZOFFSETTO:+0300
TZNAME:EEST
DTSTART:20230326T010000
END:DAYLIGHT
BEGIN:STANDARD
TZOFFSETFROM:+0300
TZOFFSETTO:+0200
TZNAME:EET
DTSTART:20231029T010000
END:STANDARD
BEGIN:DAYLIGHT
TZOFFSETFROM:+0200
TZOFFSETTO:+0300
TZNAME:EEST
DTSTART:20240331T010000
END:DAYLIGHT
BEGIN:STANDARD
TZOFFSETFROM:+0300
TZOFFSETTO:+0200
TZNAME:EET
DTSTART:20241027T010000
END:STANDARD
BEGIN:DAYLIGHT
TZOFFSETFROM:+0200
TZOFFSETTO:+0300
TZNAME:EEST
DTSTART:20250330T010000
END:DAYLIGHT
BEGIN:STANDARD
TZOFFSETFROM:+0300
TZOFFSETTO:+0200
TZNAME:EET
DTSTART:20251026T010000
END:STANDARD
END:VTIMEZONE
BEGIN:VEVENT
DTSTART;TZID=Europe/Helsinki:20241128T000000
DTEND;TZID=Europe/Helsinki:20241205T235959
DTSTAMP:20260422T134517
CREATED:20241106T103647Z
LAST-MODIFIED:20241106T103948Z
UID:8649-1732752000-1733443199@bancodealimentosdevalladolid.es
SUMMARY:Quedadas Solidarias
DESCRIPTION:QUEDADA SOLIDARIA \n ¡¡ Última salida del 2024 !! \nPlaza Mayor de Valladolid \n(Desde el 28 de noviembre hasta el 5 de enero) \n  \nDesde finales de 2010 colaboramos con ayuntamientos y otras organizaciones que promueven encuentros con talleres\, exposiciones\, mercados de artesanía… \nCon el fin de llegar al mayor número de personas\, es posible encontrarse con una de nuestras exposiciones solidarias\, tanto en galerías y otros espacios dedicados al arte y la cultura\, como en mercados de artesanía que se celebran a pie de calle. \nEn cualquier caso\, en estos encuentros los visitantes podrán adquirir las artesanías expuestas beneficiándose de nuestros «SOLI-PRECIOS».  Por lo que\, además de conseguir las piezas al precio más bajo que seamos capaces de ofrecer\, el 10% del importe recaudado se donará a una de las fundaciones benéficas con las que colaboramos (la que cada comprador o compradora nos indique). \n \n\n\n\n\n\n\n\n\n\n\n\n 
URL:https://bancodealimentosdevalladolid.es/evento/quedadas-solidarias/
LOCATION:Plaza Mayor de Valladolid\, Plaza Mayor\, Valladolid\, Valladolid\, 47001\, Spain
ATTACH;FMTTYPE=image/jpeg:https://bancodealimentosdevalladolid.es/wp-content/uploads/2024/11/Quedadas-Solidarias-1.jpg
END:VEVENT
END:VCALENDAR