BEGIN:VCALENDAR
VERSION:2.0
PRODID:-//Banco de Alimentos de Valladolid - ECPv6.15.20//NONSGML v1.0//EN
CALSCALE:GREGORIAN
METHOD:PUBLISH
X-WR-CALNAME:Banco de Alimentos de Valladolid
X-ORIGINAL-URL:https://bancodealimentosdevalladolid.es
X-WR-CALDESC:Eventos para Banco de Alimentos de Valladolid
REFRESH-INTERVAL;VALUE=DURATION:PT1H
X-Robots-Tag:noindex
X-PUBLISHED-TTL:PT1H
BEGIN:VTIMEZONE
TZID:Europe/Helsinki
BEGIN:DAYLIGHT
TZOFFSETFROM:+0200
TZOFFSETTO:+0300
TZNAME:EEST
DTSTART:20220327T010000
END:DAYLIGHT
BEGIN:STANDARD
TZOFFSETFROM:+0300
TZOFFSETTO:+0200
TZNAME:EET
DTSTART:20221030T010000
END:STANDARD
BEGIN:DAYLIGHT
TZOFFSETFROM:+0200
TZOFFSETTO:+0300
TZNAME:EEST
DTSTART:20230326T010000
END:DAYLIGHT
BEGIN:STANDARD
TZOFFSETFROM:+0300
TZOFFSETTO:+0200
TZNAME:EET
DTSTART:20231029T010000
END:STANDARD
BEGIN:DAYLIGHT
TZOFFSETFROM:+0200
TZOFFSETTO:+0300
TZNAME:EEST
DTSTART:20240331T010000
END:DAYLIGHT
BEGIN:STANDARD
TZOFFSETFROM:+0300
TZOFFSETTO:+0200
TZNAME:EET
DTSTART:20241027T010000
END:STANDARD
END:VTIMEZONE
BEGIN:VEVENT
DTSTART;TZID=Europe/Helsinki:20231129T000000
DTEND;TZID=Europe/Helsinki:20231217T235959
DTSTAMP:20260421T232216
CREATED:20240114T130238Z
LAST-MODIFIED:20240114T130310Z
UID:6812-1701216000-1702857599@bancodealimentosdevalladolid.es
SUMMARY:Recogida de Alimentos - Colisée
DESCRIPTION:
URL:https://bancodealimentosdevalladolid.es/evento/recogida-de-alimentos-colisee/
LOCATION:Residencia Plaza Real\, C/ Cañadón\, 50\, ZARATÁN\, VALLADOLID\, 47610\, España
ATTACH;FMTTYPE=image/jpeg:https://bancodealimentosdevalladolid.es/wp-content/uploads/2024/01/colisee-cartel_recogida_de_alimentos.jpg
END:VEVENT
BEGIN:VEVENT
DTSTART;TZID=Europe/Helsinki:20231201T000000
DTEND;TZID=Europe/Helsinki:20231203T235959
DTSTAMP:20260421T232216
CREATED:20231115T110129Z
LAST-MODIFIED:20231128T115315Z
UID:6409-1701388800-1701647999@bancodealimentosdevalladolid.es
SUMMARY:Torneo Solidario de Golf Navidad 2023
DESCRIPTION:
URL:https://bancodealimentosdevalladolid.es/evento/torneo-solidario-de-golf-navidad-2023/
LOCATION:Aldeamayor Club de Golf\, Urbanización Aldeamayor Golf\, Calle Molinejo\, s/n\, ALDEAMAYOR DE SAN MARTÍN\, VALLADOLID\, 47162\, España
ATTACH;FMTTYPE=image/jpeg:https://bancodealimentosdevalladolid.es/wp-content/uploads/2023/11/torneo_solidario_de_golf_navidad_2023.jpg
END:VEVENT
BEGIN:VEVENT
DTSTART;TZID=Europe/Helsinki:20231208T000000
DTEND;TZID=Europe/Helsinki:20231208T060000
DTSTAMP:20260421T232216
CREATED:20240114T131809Z
LAST-MODIFIED:20240114T131809Z
UID:6827-1701993600-1702015200@bancodealimentosdevalladolid.es
SUMMARY:I Mercadillo Solidario Ayuntamiento San Román de Hornija
DESCRIPTION:
URL:https://bancodealimentosdevalladolid.es/evento/i-mercadillo-solidario-ayuntamiento-san-roman-de-hornija-2/
LOCATION:San Román de Hornija (Valladolid)\, Plaza Mayor\, SAN ROMÁN DE HORNIJA\, VALLADOLID\, 47530\, España
ATTACH;FMTTYPE=image/png:https://bancodealimentosdevalladolid.es/wp-content/uploads/2024/01/ayuntamiento_s._roman-mercadillo_solidario.png
END:VEVENT
BEGIN:VEVENT
DTSTART;TZID=Europe/Helsinki:20231210T000000
DTEND;TZID=Europe/Helsinki:20231217T235959
DTSTAMP:20260421T232216
CREATED:20240114T130837Z
LAST-MODIFIED:20240114T131418Z
UID:6819-1702166400-1702857599@bancodealimentosdevalladolid.es
SUMMARY:Recogida de Alimentos GO fit
DESCRIPTION:
URL:https://bancodealimentosdevalladolid.es/evento/i-mercadillo-solidario-ayuntamiento-san-roman-de-hornija/
LOCATION:GO fit\, C/ del Asteroide\, s/n\, VALLADOLID\, VALLADOLID\, 47011\, España
ATTACH;FMTTYPE=image/jpeg:https://bancodealimentosdevalladolid.es/wp-content/uploads/2024/01/go_fit_2024.jpg
END:VEVENT
BEGIN:VEVENT
DTSTART;TZID=Europe/Helsinki:20231211T000000
DTEND;TZID=Europe/Helsinki:20231219T235959
DTSTAMP:20260421T232216
CREATED:20240114T132051Z
LAST-MODIFIED:20240114T154635Z
UID:6829-1702252800-1703030399@bancodealimentosdevalladolid.es
SUMMARY:ACL Solidario
DESCRIPTION:
URL:https://bancodealimentosdevalladolid.es/evento/acl-solidario/
LOCATION:Valladolid
ATTACH;FMTTYPE=image/jpeg:https://bancodealimentosdevalladolid.es/wp-content/uploads/2024/01/acl_solidario.jpg
END:VEVENT
BEGIN:VEVENT
DTSTART;TZID=Europe/Helsinki:20231217T000000
DTEND;TZID=Europe/Helsinki:20231217T235959
DTSTAMP:20260421T232216
CREATED:20240114T132646Z
LAST-MODIFIED:20240114T132646Z
UID:6834-1702771200-1702857599@bancodealimentosdevalladolid.es
SUMMARY:Mercadillo Solidario Tierra Madre
DESCRIPTION:
URL:https://bancodealimentosdevalladolid.es/evento/mercadillo-solidario-tierra-madre/
LOCATION:Tierra Madre Cerámica\, C/ Juan Martínez Villergas\, 5\, VALLADOLID\, VALLADOLID\, 47014\, España
ATTACH;FMTTYPE=image/png:https://bancodealimentosdevalladolid.es/wp-content/uploads/2024/01/tierra_madre_mercadillo_solidario-01.png
END:VEVENT
BEGIN:VEVENT
DTSTART;TZID=Europe/Helsinki:20231222T000000
DTEND;TZID=Europe/Helsinki:20231223T235959
DTSTAMP:20260421T232216
CREATED:20240114T153247Z
LAST-MODIFIED:20240114T154550Z
UID:6839-1703203200-1703375999@bancodealimentosdevalladolid.es
SUMMARY:Torneo Benéfico Navideño de Fútbol Sala - Sardón de Duero
DESCRIPTION:
URL:https://bancodealimentosdevalladolid.es/evento/torneo-benefico-navideno-de-futbol-sala-sardon-de-duero/
LOCATION:Polideportivo Municipal de Sardón de Duero\, Arrabal Arroyo Valimón\, s/n\, SARDÓN DE DUERO\, VALLADOLID\, 47340\, España
ATTACH;FMTTYPE=image/jpeg:https://bancodealimentosdevalladolid.es/wp-content/uploads/2024/01/torneo_benefico_navidad-sardon.jpg
END:VEVENT
BEGIN:VEVENT
DTSTART;TZID=Europe/Helsinki:20231222T000000
DTEND;TZID=Europe/Helsinki:20231222T235959
DTSTAMP:20260421T232216
CREATED:20240114T153852Z
LAST-MODIFIED:20240114T154724Z
UID:6844-1703203200-1703289599@bancodealimentosdevalladolid.es
SUMMARY:VI Cabalgata Motera Solidaria de Viloria
DESCRIPTION:
URL:https://bancodealimentosdevalladolid.es/evento/vi-cabalgata-motera-solidaria-de-viloria/
LOCATION:Viloria\, Plaza Mayor\, VILORIA\, VALLADOLID\, 47166\, España
ATTACH;FMTTYPE=image/jpeg:https://bancodealimentosdevalladolid.es/wp-content/uploads/2024/01/cabalgata_motera_viloria_2023-01.jpg
END:VEVENT
END:VCALENDAR