BEGIN:VCALENDAR
VERSION:2.0
PRODID:-//Banco de Alimentos de Valladolid - ECPv6.15.20//NONSGML v1.0//EN
CALSCALE:GREGORIAN
METHOD:PUBLISH
X-ORIGINAL-URL:https://bancodealimentosdevalladolid.es
X-WR-CALDESC:Eventos para Banco de Alimentos de Valladolid
REFRESH-INTERVAL;VALUE=DURATION:PT1H
X-Robots-Tag:noindex
X-PUBLISHED-TTL:PT1H
BEGIN:VTIMEZONE
TZID:Europe/Helsinki
BEGIN:DAYLIGHT
TZOFFSETFROM:+0200
TZOFFSETTO:+0300
TZNAME:EEST
DTSTART:20220327T010000
END:DAYLIGHT
BEGIN:STANDARD
TZOFFSETFROM:+0300
TZOFFSETTO:+0200
TZNAME:EET
DTSTART:20221030T010000
END:STANDARD
BEGIN:DAYLIGHT
TZOFFSETFROM:+0200
TZOFFSETTO:+0300
TZNAME:EEST
DTSTART:20230326T010000
END:DAYLIGHT
BEGIN:STANDARD
TZOFFSETFROM:+0300
TZOFFSETTO:+0200
TZNAME:EET
DTSTART:20231029T010000
END:STANDARD
BEGIN:DAYLIGHT
TZOFFSETFROM:+0200
TZOFFSETTO:+0300
TZNAME:EEST
DTSTART:20240331T010000
END:DAYLIGHT
BEGIN:STANDARD
TZOFFSETFROM:+0300
TZOFFSETTO:+0200
TZNAME:EET
DTSTART:20241027T010000
END:STANDARD
BEGIN:DAYLIGHT
TZOFFSETFROM:+0200
TZOFFSETTO:+0300
TZNAME:EEST
DTSTART:20250330T010000
END:DAYLIGHT
BEGIN:STANDARD
TZOFFSETFROM:+0300
TZOFFSETTO:+0200
TZNAME:EET
DTSTART:20251026T010000
END:STANDARD
BEGIN:DAYLIGHT
TZOFFSETFROM:+0200
TZOFFSETTO:+0300
TZNAME:EEST
DTSTART:20260329T010000
END:DAYLIGHT
BEGIN:STANDARD
TZOFFSETFROM:+0300
TZOFFSETTO:+0200
TZNAME:EET
DTSTART:20261025T010000
END:STANDARD
END:VTIMEZONE
BEGIN:VEVENT
DTSTART;TZID=Europe/Helsinki:20231008T103000
DTEND;TZID=Europe/Helsinki:20231008T123000
DTSTAMP:20260421T184936
CREATED:20231108T111216Z
LAST-MODIFIED:20231128T115350Z
UID:6205-1696761000-1696768200@bancodealimentosdevalladolid.es
SUMMARY:VI Caminata Popular
DESCRIPTION:
URL:https://bancodealimentosdevalladolid.es/evento/vi-caminata-popular/
LOCATION:Valladolid
ATTACH;FMTTYPE=image/png:https://bancodealimentosdevalladolid.es/wp-content/uploads/2023/09/vi_caminata_popular-cartel.png
END:VEVENT
BEGIN:VEVENT
DTSTART;TZID=Europe/Helsinki:20231124T000000
DTEND;TZID=Europe/Helsinki:20231125T235959
DTSTAMP:20260421T184936
CREATED:20231128T104523Z
LAST-MODIFIED:20231128T115339Z
UID:6629-1700784000-1700956799@bancodealimentosdevalladolid.es
SUMMARY:La Gran Recogida 2023
DESCRIPTION:
URL:https://bancodealimentosdevalladolid.es/evento/la-gran-recogida-2023l/
LOCATION:Supermercados de Valladolid y Provincia. También en www.bancodealimentosdevalladolid.es/donaciones
ATTACH;FMTTYPE=image/webp:https://bancodealimentosdevalladolid.es/wp-content/uploads/2023/11/gr_2023_cartel.webp
END:VEVENT
BEGIN:VEVENT
DTSTART;TZID=Europe/Helsinki:20231126T200000
DTEND;TZID=Europe/Helsinki:20231126T200000
DTSTAMP:20260421T184936
CREATED:20231115T105616Z
LAST-MODIFIED:20231128T115325Z
UID:6404-1701028800-1701028800@bancodealimentosdevalladolid.es
SUMMARY:Concierto de Santa Cecilia
DESCRIPTION:
URL:https://bancodealimentosdevalladolid.es/evento/concierto-de-santa-cecilia/
LOCATION:Iglesia de Santa María La Antigua\, C/ Arzobispo Gandásegui\, 1\, VALLADOLID\, 47002\, España
ATTACH;FMTTYPE=image/webp:https://bancodealimentosdevalladolid.es/wp-content/uploads/2023/11/concierto_santa_cecilia.webp
END:VEVENT
BEGIN:VEVENT
DTSTART;TZID=Europe/Helsinki:20231129T000000
DTEND;TZID=Europe/Helsinki:20231217T235959
DTSTAMP:20260421T184936
CREATED:20240114T130238Z
LAST-MODIFIED:20240114T130310Z
UID:6812-1701216000-1702857599@bancodealimentosdevalladolid.es
SUMMARY:Recogida de Alimentos - Colisée
DESCRIPTION:
URL:https://bancodealimentosdevalladolid.es/evento/recogida-de-alimentos-colisee/
LOCATION:Residencia Plaza Real\, C/ Cañadón\, 50\, ZARATÁN\, VALLADOLID\, 47610\, España
ATTACH;FMTTYPE=image/jpeg:https://bancodealimentosdevalladolid.es/wp-content/uploads/2024/01/colisee-cartel_recogida_de_alimentos.jpg
END:VEVENT
BEGIN:VEVENT
DTSTART;TZID=Europe/Helsinki:20231201T000000
DTEND;TZID=Europe/Helsinki:20231203T235959
DTSTAMP:20260421T184936
CREATED:20231115T110129Z
LAST-MODIFIED:20231128T115315Z
UID:6409-1701388800-1701647999@bancodealimentosdevalladolid.es
SUMMARY:Torneo Solidario de Golf Navidad 2023
DESCRIPTION:
URL:https://bancodealimentosdevalladolid.es/evento/torneo-solidario-de-golf-navidad-2023/
LOCATION:Aldeamayor Club de Golf\, Urbanización Aldeamayor Golf\, Calle Molinejo\, s/n\, ALDEAMAYOR DE SAN MARTÍN\, VALLADOLID\, 47162\, España
ATTACH;FMTTYPE=image/jpeg:https://bancodealimentosdevalladolid.es/wp-content/uploads/2023/11/torneo_solidario_de_golf_navidad_2023.jpg
END:VEVENT
BEGIN:VEVENT
DTSTART;TZID=Europe/Helsinki:20231208T000000
DTEND;TZID=Europe/Helsinki:20231208T060000
DTSTAMP:20260421T184936
CREATED:20240114T131809Z
LAST-MODIFIED:20240114T131809Z
UID:6827-1701993600-1702015200@bancodealimentosdevalladolid.es
SUMMARY:I Mercadillo Solidario Ayuntamiento San Román de Hornija
DESCRIPTION:
URL:https://bancodealimentosdevalladolid.es/evento/i-mercadillo-solidario-ayuntamiento-san-roman-de-hornija-2/
LOCATION:San Román de Hornija (Valladolid)\, Plaza Mayor\, SAN ROMÁN DE HORNIJA\, VALLADOLID\, 47530\, España
ATTACH;FMTTYPE=image/png:https://bancodealimentosdevalladolid.es/wp-content/uploads/2024/01/ayuntamiento_s._roman-mercadillo_solidario.png
END:VEVENT
BEGIN:VEVENT
DTSTART;TZID=Europe/Helsinki:20231210T000000
DTEND;TZID=Europe/Helsinki:20231217T235959
DTSTAMP:20260421T184936
CREATED:20240114T130837Z
LAST-MODIFIED:20240114T131418Z
UID:6819-1702166400-1702857599@bancodealimentosdevalladolid.es
SUMMARY:Recogida de Alimentos GO fit
DESCRIPTION:
URL:https://bancodealimentosdevalladolid.es/evento/i-mercadillo-solidario-ayuntamiento-san-roman-de-hornija/
LOCATION:GO fit\, C/ del Asteroide\, s/n\, VALLADOLID\, VALLADOLID\, 47011\, España
ATTACH;FMTTYPE=image/jpeg:https://bancodealimentosdevalladolid.es/wp-content/uploads/2024/01/go_fit_2024.jpg
END:VEVENT
BEGIN:VEVENT
DTSTART;TZID=Europe/Helsinki:20231211T000000
DTEND;TZID=Europe/Helsinki:20231219T235959
DTSTAMP:20260421T184936
CREATED:20240114T132051Z
LAST-MODIFIED:20240114T154635Z
UID:6829-1702252800-1703030399@bancodealimentosdevalladolid.es
SUMMARY:ACL Solidario
DESCRIPTION:
URL:https://bancodealimentosdevalladolid.es/evento/acl-solidario/
LOCATION:Valladolid
ATTACH;FMTTYPE=image/jpeg:https://bancodealimentosdevalladolid.es/wp-content/uploads/2024/01/acl_solidario.jpg
END:VEVENT
BEGIN:VEVENT
DTSTART;TZID=Europe/Helsinki:20231217T000000
DTEND;TZID=Europe/Helsinki:20231217T235959
DTSTAMP:20260421T184936
CREATED:20240114T132646Z
LAST-MODIFIED:20240114T132646Z
UID:6834-1702771200-1702857599@bancodealimentosdevalladolid.es
SUMMARY:Mercadillo Solidario Tierra Madre
DESCRIPTION:
URL:https://bancodealimentosdevalladolid.es/evento/mercadillo-solidario-tierra-madre/
LOCATION:Tierra Madre Cerámica\, C/ Juan Martínez Villergas\, 5\, VALLADOLID\, VALLADOLID\, 47014\, España
ATTACH;FMTTYPE=image/png:https://bancodealimentosdevalladolid.es/wp-content/uploads/2024/01/tierra_madre_mercadillo_solidario-01.png
END:VEVENT
BEGIN:VEVENT
DTSTART;TZID=Europe/Helsinki:20231222T000000
DTEND;TZID=Europe/Helsinki:20231223T235959
DTSTAMP:20260421T184936
CREATED:20240114T153247Z
LAST-MODIFIED:20240114T154550Z
UID:6839-1703203200-1703375999@bancodealimentosdevalladolid.es
SUMMARY:Torneo Benéfico Navideño de Fútbol Sala - Sardón de Duero
DESCRIPTION:
URL:https://bancodealimentosdevalladolid.es/evento/torneo-benefico-navideno-de-futbol-sala-sardon-de-duero/
LOCATION:Polideportivo Municipal de Sardón de Duero\, Arrabal Arroyo Valimón\, s/n\, SARDÓN DE DUERO\, VALLADOLID\, 47340\, España
ATTACH;FMTTYPE=image/jpeg:https://bancodealimentosdevalladolid.es/wp-content/uploads/2024/01/torneo_benefico_navidad-sardon.jpg
END:VEVENT
BEGIN:VEVENT
DTSTART;TZID=Europe/Helsinki:20231222T000000
DTEND;TZID=Europe/Helsinki:20231222T235959
DTSTAMP:20260421T184936
CREATED:20240114T153852Z
LAST-MODIFIED:20240114T154724Z
UID:6844-1703203200-1703289599@bancodealimentosdevalladolid.es
SUMMARY:VI Cabalgata Motera Solidaria de Viloria
DESCRIPTION:
URL:https://bancodealimentosdevalladolid.es/evento/vi-cabalgata-motera-solidaria-de-viloria/
LOCATION:Viloria\, Plaza Mayor\, VILORIA\, VALLADOLID\, 47166\, España
ATTACH;FMTTYPE=image/jpeg:https://bancodealimentosdevalladolid.es/wp-content/uploads/2024/01/cabalgata_motera_viloria_2023-01.jpg
END:VEVENT
BEGIN:VEVENT
DTSTART;TZID=Europe/Helsinki:20240102T180000
DTEND;TZID=Europe/Helsinki:20240102T180000
DTSTAMP:20260421T184936
CREATED:20240114T154250Z
LAST-MODIFIED:20240114T154430Z
UID:6849-1704218400-1704218400@bancodealimentosdevalladolid.es
SUMMARY:Exhibición de Taekwondo y Ninjutsu
DESCRIPTION:
URL:https://bancodealimentosdevalladolid.es/evento/exhibicion-de-taekwondo-y-ninjutsu/
LOCATION:Polideportivo Municipal de Renedo de Esgueva\, C/ Cañada Leonesa\, 4\, RENEDO DE ESGUEVA\, VALLADOLID\, 47170\, España
ATTACH;FMTTYPE=image/png:https://bancodealimentosdevalladolid.es/wp-content/uploads/2024/01/exhibicion_taekwondo_y_ninjutsu.png
END:VEVENT
BEGIN:VEVENT
DTSTART;TZID=Europe/Helsinki:20240225T093000
DTEND;TZID=Europe/Helsinki:20240301T114300
DTSTAMP:20260421T184936
CREATED:20240201T073039Z
LAST-MODIFIED:20240306T094938Z
UID:7390-1708853400-1709293380@bancodealimentosdevalladolid.es
SUMMARY:IV Reto San Ángel Solidario
DESCRIPTION:– Marcha solidaria por los pinares y riberas de Megeces.- La marcha puede realizarse andando\, corriendo o en bicicleta.- Al finalizar el evento se celebra un fiesta y sorteo de regalos. Recogida de Alimentos para el Banco de Alimentos de Valladolid
URL:https://bancodealimentosdevalladolid.es/evento/iv-reto-san-angel-solidario/
LOCATION:Plaza Mayor de Megeces\, Plaza Mayor\, Megeces\, Valladolid\, 47440
ATTACH;FMTTYPE=image/jpeg:https://bancodealimentosdevalladolid.es/wp-content/uploads/2024/03/IV-Reto-Santo-Angel-Solidario-Cartel.jpg
END:VEVENT
BEGIN:VEVENT
DTSTART;TZID=Europe/Helsinki:20240225T180000
DTEND;TZID=Europe/Helsinki:20240225T220000
DTSTAMP:20260421T184936
CREATED:20240225T160058Z
LAST-MODIFIED:20240321T125531Z
UID:7458-1708884000-1708898400@bancodealimentosdevalladolid.es
SUMMARY:VI Sonsolidario
DESCRIPTION:Este año tendremos el apoyo de muchas escuelas que suben al escenario para colaborar y disfrutar de una tarde diferente.\nContaremos con Jesús presentador\, Aurora fotógrafa y Ponce DJ\, que ya son parte importante del evento.\n\n\nDespués del gran éxito del año pasado con un lleno total en la Cúpula del Milenio y una recaudación de más de 6.000 euros\, volvemos con fuerza.\n\n– Apertura de puertas\, 17:00h.\n– Espectáculo de escuelas participantes\, 18:00 a 20:00h.\n– Baile Social de 20:00h a 22:00h.\n\nToda la recaudación está destinada a la Fundación Banco de Alimentos de Valladolid.\n\n\nMemoria del Evento
URL:https://bancodealimentosdevalladolid.es/evento/vi-sonsolidario/
LOCATION:Supermercados de Valladolid y Provincia – También en www.bancodealimentosdevalladolid.es/donaciones\, Plaza del Milenio - Puente de Isabel la Católica\, 1\, VALLADOLID\, VALLADOLID\, 47014\, España
ATTACH;FMTTYPE=image/jpeg:https://bancodealimentosdevalladolid.es/wp-content/uploads/2024/02/VI-SONSOLIDARIO-cartel.jpg
END:VEVENT
BEGIN:VEVENT
DTSTART;TZID=Europe/Helsinki:20240509T110000
DTEND;TZID=Europe/Helsinki:20240509T110000
DTSTAMP:20260421T184936
CREATED:20240220T112924Z
LAST-MODIFIED:20240512T121334Z
UID:7311-1715252400-1715252400@bancodealimentosdevalladolid.es
SUMMARY:Caminata / Carrera Solidaria CIFP Medina del Campo
DESCRIPTION:
URL:https://bancodealimentosdevalladolid.es/evento/caminata-carrera-solidaria-cifp-medina-del-campo/
LOCATION:CIFP Medina del Campo\, Avda. Portugal\, 58\, MEDINA DEL CAMPO\, VALLADOLID\, 47400\, España
ATTACH;FMTTYPE=image/png:https://bancodealimentosdevalladolid.es/wp-content/uploads/2024/05/Cartel-Marcha-Carrera-2024-CIFP-Medina.png
ORGANIZER;CN="CIFP Medina del Campo":MAILTO:47011231@educa.jcyl.es
END:VEVENT
BEGIN:VEVENT
DTSTART;TZID=Europe/Helsinki:20240524T000000
DTEND;TZID=Europe/Helsinki:20240602T235959
DTSTAMP:20260421T184936
CREATED:20240515T110545Z
LAST-MODIFIED:20240522T085500Z
UID:7721-1716508800-1717372799@bancodealimentosdevalladolid.es
SUMMARY:Recogida Primavera 2024
DESCRIPTION:Supermercados de Valladolid y Provincia\nSupermercados participantes:\n\nAlcampo\nAlimerka\nCarrefour\nEl Corte Inglés\nFroiz\nGadis\nGrupo Día\nLupa\nMercadona\n\nTambién puede colaborar en: www.bancodealimentosdevalladolid.es/donaciones
URL:https://bancodealimentosdevalladolid.es/evento/recogida-primavera-2024/
LOCATION:Valladolid
ATTACH;FMTTYPE=image/jpeg:https://bancodealimentosdevalladolid.es/wp-content/uploads/2024/05/Cartel-scaled.jpg
END:VEVENT
BEGIN:VEVENT
DTSTART;TZID=Europe/Helsinki:20240602T000000
DTEND;TZID=Europe/Helsinki:20240602T235959
DTSTAMP:20260421T184936
CREATED:20240515T105441Z
LAST-MODIFIED:20240515T105934Z
UID:7716-1717286400-1717372799@bancodealimentosdevalladolid.es
SUMMARY:Espectáculo musical - Grupo Social Amantes de la Naturaleza
DESCRIPTION:
URL:https://bancodealimentosdevalladolid.es/evento/espectaculo-musical-grupo-social-amantes-de-la-naturaleza/
LOCATION:Albergue Maristas\, Carretera de Madrid (junto San Juan de Dios)
END:VEVENT
BEGIN:VEVENT
DTSTART;TZID=Europe/Helsinki:20241021T000000
DTEND;TZID=Europe/Helsinki:20241024T235959
DTSTAMP:20260421T184936
CREATED:20241016T101218Z
LAST-MODIFIED:20241016T101452Z
UID:8343-1729468800-1729814399@bancodealimentosdevalladolid.es
SUMMARY:Operación Kilo - Facultad de CC. Económicas y Empresariales
DESCRIPTION:
URL:https://bancodealimentosdevalladolid.es/evento/operacion-kilo-facultad-de-cc-economicas-y-empresariales/
LOCATION:Facultad de CC. Económicas y Empresariales\, Av. Valle de Esgueva\, 6\, Valladolid\, Valladolid\, 47011\, Spain
ATTACH;FMTTYPE=image/jpeg:https://bancodealimentosdevalladolid.es/wp-content/uploads/2024/10/OK-Facultad-CC.-Economicas-y-Empresariales.jpg
END:VEVENT
BEGIN:VEVENT
DTSTART;TZID=Europe/Helsinki:20241128T000000
DTEND;TZID=Europe/Helsinki:20241205T235959
DTSTAMP:20260421T184936
CREATED:20241106T103647Z
LAST-MODIFIED:20241106T103948Z
UID:8649-1732752000-1733443199@bancodealimentosdevalladolid.es
SUMMARY:Quedadas Solidarias
DESCRIPTION:QUEDADA SOLIDARIA \n ¡¡ Última salida del 2024 !! \nPlaza Mayor de Valladolid \n(Desde el 28 de noviembre hasta el 5 de enero) \n  \nDesde finales de 2010 colaboramos con ayuntamientos y otras organizaciones que promueven encuentros con talleres\, exposiciones\, mercados de artesanía… \nCon el fin de llegar al mayor número de personas\, es posible encontrarse con una de nuestras exposiciones solidarias\, tanto en galerías y otros espacios dedicados al arte y la cultura\, como en mercados de artesanía que se celebran a pie de calle. \nEn cualquier caso\, en estos encuentros los visitantes podrán adquirir las artesanías expuestas beneficiándose de nuestros «SOLI-PRECIOS».  Por lo que\, además de conseguir las piezas al precio más bajo que seamos capaces de ofrecer\, el 10% del importe recaudado se donará a una de las fundaciones benéficas con las que colaboramos (la que cada comprador o compradora nos indique). \n \n\n\n\n\n\n\n\n\n\n\n\n 
URL:https://bancodealimentosdevalladolid.es/evento/quedadas-solidarias/
LOCATION:Plaza Mayor de Valladolid\, Plaza Mayor\, Valladolid\, Valladolid\, 47001\, Spain
ATTACH;FMTTYPE=image/jpeg:https://bancodealimentosdevalladolid.es/wp-content/uploads/2024/11/Quedadas-Solidarias-1.jpg
END:VEVENT
BEGIN:VEVENT
DTSTART;TZID=Europe/Helsinki:20241208T000000
DTEND;TZID=Europe/Helsinki:20241208T180000
DTSTAMP:20260421T184936
CREATED:20241121T111458Z
LAST-MODIFIED:20241218T104154Z
UID:8737-1733616000-1733680800@bancodealimentosdevalladolid.es
SUMMARY:II Mercadillo Solidario Ayuntamiento San Román de Hornija
DESCRIPTION:
URL:https://bancodealimentosdevalladolid.es/evento/ii-mercadillo-solidario-ayuntamiento-san-roman-de-hornija/
LOCATION:San Román de Hornija (Valladolid)\, Plaza Mayor\, SAN ROMÁN DE HORNIJA\, VALLADOLID\, 47530\, España
ATTACH;FMTTYPE=image/jpeg:https://bancodealimentosdevalladolid.es/wp-content/uploads/2024/11/II-Mercadillo-solidario.jpg
END:VEVENT
BEGIN:VEVENT
DTSTART;TZID=Europe/Helsinki:20241210T000000
DTEND;TZID=Europe/Helsinki:20241220T235959
DTSTAMP:20260421T184936
CREATED:20241213T155735Z
LAST-MODIFIED:20241218T104048Z
UID:9126-1733788800-1734739199@bancodealimentosdevalladolid.es
SUMMARY:OK Ilumina el Cielo de Buenos Deseos
DESCRIPTION:
URL:https://bancodealimentosdevalladolid.es/evento/ok-ilumina-el-cielo-de-buenos-deseos/
LOCATION:Valladolid
ATTACH;FMTTYPE=image/jpeg:https://bancodealimentosdevalladolid.es/wp-content/uploads/2024/12/OK-Ilumina-el-Cielo-de-Buenos-Deseos.jpeg
END:VEVENT
BEGIN:VEVENT
DTSTART;TZID=Europe/Helsinki:20241214T093000
DTEND;TZID=Europe/Helsinki:20241214T133000
DTSTAMP:20260421T184936
CREATED:20241211T104431Z
LAST-MODIFIED:20241218T103955Z
UID:9112-1734168600-1734183000@bancodealimentosdevalladolid.es
SUMMARY:Operación Kilo - Ayuntamiento Villanueva de Duero
DESCRIPTION:
URL:https://bancodealimentosdevalladolid.es/evento/operacion-kilo-ayuntamiento-villanueva-de-duero/
LOCATION:Ayuntamiento Villanueva de Duero\, Plaza Mayor\, 1\, Villanueva de Duero\, Valladolid\, 47239\, Spain
ATTACH;FMTTYPE=image/jpeg:https://bancodealimentosdevalladolid.es/wp-content/uploads/2024/12/OK-Ayto.-Villanueva-de-D.-2024.jpg
END:VEVENT
BEGIN:VEVENT
DTSTART;TZID=Europe/Helsinki:20241215T120000
DTEND;TZID=Europe/Helsinki:20241215T140000
DTSTAMP:20260421T184936
CREATED:20241212T094251Z
LAST-MODIFIED:20241218T103820Z
UID:9119-1734264000-1734271200@bancodealimentosdevalladolid.es
SUMMARY:Mercadillo Solidario Tierra Madre
DESCRIPTION:
URL:https://bancodealimentosdevalladolid.es/evento/mercadillo-solidario-tierra-madre-2/
LOCATION:Tierra Madre Cerámica\, C/ Juan Martínez Villergas\, 5\, VALLADOLID\, VALLADOLID\, 47014\, España
ATTACH;FMTTYPE=image/png:https://bancodealimentosdevalladolid.es/wp-content/uploads/2024/12/Tierra-Madre-Mercadillo-Solidario-2024.png
END:VEVENT
BEGIN:VEVENT
DTSTART;TZID=Europe/Helsinki:20241218T000000
DTEND;TZID=Europe/Helsinki:20241218T000000
DTSTAMP:20260421T184936
CREATED:20241113T120405Z
LAST-MODIFIED:20241218T103608Z
UID:8664-1734480000-1734480000@bancodealimentosdevalladolid.es
SUMMARY:Ribera en marcha
DESCRIPTION:
URL:https://bancodealimentosdevalladolid.es/evento/ribera-en-marcha/
LOCATION:Valladolid
ATTACH;FMTTYPE=image/jpeg:https://bancodealimentosdevalladolid.es/wp-content/uploads/2024/11/Cartel-Ribera-en-marcha-2024-scaled.jpg
END:VEVENT
BEGIN:VEVENT
DTSTART;TZID=Europe/Helsinki:20250330T180000
DTEND;TZID=Europe/Helsinki:20250330T220000
DTSTAMP:20260421T184936
CREATED:20250305T103547Z
LAST-MODIFIED:20250310T114947Z
UID:9513-1743357600-1743372000@bancodealimentosdevalladolid.es
SUMMARY:VII Sonsolidario
DESCRIPTION:– Apertura de puertas\, 17:00h.- Espectáculo de escuelas participantes\, 18:00 a 20:00h.- Baile Social de 20:00h a 22:00h. Toda la recaudación está destinada a la Fundación Banco de Alimentos de Valladolid.
URL:https://bancodealimentosdevalladolid.es/evento/vii-sonsolidario/
LOCATION:Cúpula del Milenio\, Plaza del Milenio\, s/n\, Valladolid\, 47014\, Spain
ATTACH;FMTTYPE=image/jpeg:https://bancodealimentosdevalladolid.es/wp-content/uploads/2025/03/Sonsolidario-2025.jpg
END:VEVENT
BEGIN:VEVENT
DTSTART;TZID=Europe/Helsinki:20250523T000000
DTEND;TZID=Europe/Helsinki:20250525T235959
DTSTAMP:20260421T184936
CREATED:20250514T110659Z
LAST-MODIFIED:20250514T110659Z
UID:9866-1747958400-1748217599@bancodealimentosdevalladolid.es
SUMMARY:Recogida Primavera 2025
DESCRIPTION:Supermercados de Valladolid y Provincia\nSupermercados participantes:\n\nAlcampo\nAlimerka\nCarrefour\nEl Corte Inglés\nFroiz\nGadis\nGrupo Día\nLupa\nMercadona\n\nTambién puede colaborar en: www.bancodealimentosdevalladolid.es/donaciones
URL:https://bancodealimentosdevalladolid.es/evento/recogida-primavera-2025/
LOCATION:Valladolid
ATTACH;FMTTYPE=image/jpeg:https://bancodealimentosdevalladolid.es/wp-content/uploads/2025/05/Recogida-Primavera-2025-Cartel.jpg
END:VEVENT
BEGIN:VEVENT
DTSTART;TZID=Europe/Helsinki:20250524T000000
DTEND;TZID=Europe/Helsinki:20250524T235959
DTSTAMP:20260421T184936
CREATED:20250516T105840Z
LAST-MODIFIED:20250612T104001Z
UID:9881-1748044800-1748131199@bancodealimentosdevalladolid.es
SUMMARY:VI Torneo Nacional "VALLADOLID SUMMER GR"
DESCRIPTION:
URL:https://bancodealimentosdevalladolid.es/evento/vi-torneo-nacional-valladolid-summer-gr-gimnasia-ritmica/
LOCATION:Polideportivo Pisuerga\, Pl. de México\, S/N\, Valladolid\, Valladolid\, 47014\, Spain
ATTACH;FMTTYPE=image/png:https://bancodealimentosdevalladolid.es/wp-content/uploads/2025/05/Valladolid-Summer-GR.png
END:VEVENT
BEGIN:VEVENT
DTSTART;TZID=Europe/Helsinki:20250601T000000
DTEND;TZID=Europe/Helsinki:20250601T235959
DTSTAMP:20260421T184936
CREATED:20250502T103536Z
LAST-MODIFIED:20250502T104912Z
UID:9753-1748736000-1748822399@bancodealimentosdevalladolid.es
SUMMARY:Grupo Social Amantes de la Naturaleza - Comida y Cena - Espectáculo musical 2025
DESCRIPTION:
URL:https://bancodealimentosdevalladolid.es/evento/grupo-social-amantes-de-la-naturaleza-comida-y-cena-espectaculo-musical-2025/
LOCATION:Albergue Maristas\, Carretera de Madrid (junto San Juan de Dios)
ATTACH;FMTTYPE=image/jpeg:https://bancodealimentosdevalladolid.es/wp-content/uploads/2025/05/GS-Amantes-de-la-Naturaleza-Senderistas-A-2025.jpg
END:VEVENT
BEGIN:VEVENT
DTSTART;TZID=Europe/Helsinki:20251201T000000
DTEND;TZID=Europe/Helsinki:20251212T235959
DTSTAMP:20260421T184936
CREATED:20251202T113507Z
LAST-MODIFIED:20260226T102931Z
UID:11063-1764547200-1765583999@bancodealimentosdevalladolid.es
SUMMARY:Recogida de Alimentos - AMPA Ponce de León
DESCRIPTION:
URL:https://bancodealimentosdevalladolid.es/evento/recogida-de-alimentos-ampa-ponce-de-leonrecogida-de-alimentos-ampa-ponce-de-leon/
LOCATION:C.E.I.P. Ponce de León\, C/ Francisco Suarez\, 14-16\, VALLADOLID\, VALLADOLID\, Spain
ATTACH;FMTTYPE=image/jpeg:https://bancodealimentosdevalladolid.es/wp-content/uploads/2025/12/Cartel-Ponce-de-Leon.jpg
END:VEVENT
BEGIN:VEVENT
DTSTART;TZID=Europe/Helsinki:20251201T090000
DTEND;TZID=Europe/Helsinki:20251204T200000
DTSTAMP:20260421T184936
CREATED:20251127T095905Z
LAST-MODIFIED:20251217T114923Z
UID:11032-1764579600-1764878400@bancodealimentosdevalladolid.es
SUMMARY:Recogida de Alimentos Solidaria - Facultad de Educación y Trabajo Social
DESCRIPTION:
URL:https://bancodealimentosdevalladolid.es/evento/recogida-de-alimentos-solidaria-facultad-de-educacion-y-trabajo-social/
LOCATION:Facultad de Educación y Trabajo Social\, Paseo de Belén\, 1\, VALLADOLID\, VALLADOLID\, 47011\, Spain
ATTACH;FMTTYPE=image/jpeg:https://bancodealimentosdevalladolid.es/wp-content/uploads/2025/11/Facultad-Educacion-y-Trabajo-Social-2025-Recogida-Alimentos.jpg
END:VEVENT
END:VCALENDAR