BEGIN:VCALENDAR
VERSION:2.0
PRODID:-//Banco de Alimentos de Valladolid - ECPv6.15.20//NONSGML v1.0//EN
CALSCALE:GREGORIAN
METHOD:PUBLISH
X-ORIGINAL-URL:https://bancodealimentosdevalladolid.es
X-WR-CALDESC:Eventos para Banco de Alimentos de Valladolid
REFRESH-INTERVAL;VALUE=DURATION:PT1H
X-Robots-Tag:noindex
X-PUBLISHED-TTL:PT1H
BEGIN:VTIMEZONE
TZID:Europe/Helsinki
BEGIN:DAYLIGHT
TZOFFSETFROM:+0200
TZOFFSETTO:+0300
TZNAME:EEST
DTSTART:20240331T010000
END:DAYLIGHT
BEGIN:STANDARD
TZOFFSETFROM:+0300
TZOFFSETTO:+0200
TZNAME:EET
DTSTART:20241027T010000
END:STANDARD
BEGIN:DAYLIGHT
TZOFFSETFROM:+0200
TZOFFSETTO:+0300
TZNAME:EEST
DTSTART:20250330T010000
END:DAYLIGHT
BEGIN:STANDARD
TZOFFSETFROM:+0300
TZOFFSETTO:+0200
TZNAME:EET
DTSTART:20251026T010000
END:STANDARD
BEGIN:DAYLIGHT
TZOFFSETFROM:+0200
TZOFFSETTO:+0300
TZNAME:EEST
DTSTART:20260329T010000
END:DAYLIGHT
BEGIN:STANDARD
TZOFFSETFROM:+0300
TZOFFSETTO:+0200
TZNAME:EET
DTSTART:20261025T010000
END:STANDARD
END:VTIMEZONE
BEGIN:VEVENT
DTSTART;TZID=Europe/Helsinki:20251201T000000
DTEND;TZID=Europe/Helsinki:20251212T235959
DTSTAMP:20260421T215224
CREATED:20251202T113507Z
LAST-MODIFIED:20260226T102931Z
UID:11063-1764547200-1765583999@bancodealimentosdevalladolid.es
SUMMARY:Recogida de Alimentos - AMPA Ponce de León
DESCRIPTION:
URL:https://bancodealimentosdevalladolid.es/evento/recogida-de-alimentos-ampa-ponce-de-leonrecogida-de-alimentos-ampa-ponce-de-leon/
LOCATION:C.E.I.P. Ponce de León\, C/ Francisco Suarez\, 14-16\, VALLADOLID\, VALLADOLID\, Spain
ATTACH;FMTTYPE=image/jpeg:https://bancodealimentosdevalladolid.es/wp-content/uploads/2025/12/Cartel-Ponce-de-Leon.jpg
END:VEVENT
BEGIN:VEVENT
DTSTART;TZID=Europe/Helsinki:20251201T090000
DTEND;TZID=Europe/Helsinki:20251204T200000
DTSTAMP:20260421T215224
CREATED:20251127T095905Z
LAST-MODIFIED:20251217T114923Z
UID:11032-1764579600-1764878400@bancodealimentosdevalladolid.es
SUMMARY:Recogida de Alimentos Solidaria - Facultad de Educación y Trabajo Social
DESCRIPTION:
URL:https://bancodealimentosdevalladolid.es/evento/recogida-de-alimentos-solidaria-facultad-de-educacion-y-trabajo-social/
LOCATION:Facultad de Educación y Trabajo Social\, Paseo de Belén\, 1\, VALLADOLID\, VALLADOLID\, 47011\, Spain
ATTACH;FMTTYPE=image/jpeg:https://bancodealimentosdevalladolid.es/wp-content/uploads/2025/11/Facultad-Educacion-y-Trabajo-Social-2025-Recogida-Alimentos.jpg
END:VEVENT
END:VCALENDAR